BEGIN:VCALENDAR
VERSION:2.0
PRODID:-//Kunstverein für den Rhein-Sieg-Kreis e.V. - ECPv6.15.7//NONSGML v1.0//EN
CALSCALE:GREGORIAN
METHOD:PUBLISH
X-ORIGINAL-URL:https://www.kunstverein-rheinsieg.de
X-WR-CALDESC:Veranstaltungen für Kunstverein für den Rhein-Sieg-Kreis e.V.
REFRESH-INTERVAL;VALUE=DURATION:PT1H
X-Robots-Tag:noindex
X-PUBLISHED-TTL:PT1H
BEGIN:VTIMEZONE
TZID:Europe/Berlin
BEGIN:DAYLIGHT
TZOFFSETFROM:+0100
TZOFFSETTO:+0200
TZNAME:CEST
DTSTART:20230326T010000
END:DAYLIGHT
BEGIN:STANDARD
TZOFFSETFROM:+0200
TZOFFSETTO:+0100
TZNAME:CET
DTSTART:20231029T010000
END:STANDARD
BEGIN:DAYLIGHT
TZOFFSETFROM:+0100
TZOFFSETTO:+0200
TZNAME:CEST
DTSTART:20240331T010000
END:DAYLIGHT
BEGIN:STANDARD
TZOFFSETFROM:+0200
TZOFFSETTO:+0100
TZNAME:CET
DTSTART:20241027T010000
END:STANDARD
BEGIN:DAYLIGHT
TZOFFSETFROM:+0100
TZOFFSETTO:+0200
TZNAME:CEST
DTSTART:20250330T010000
END:DAYLIGHT
BEGIN:STANDARD
TZOFFSETFROM:+0200
TZOFFSETTO:+0100
TZNAME:CET
DTSTART:20251026T010000
END:STANDARD
END:VTIMEZONE
BEGIN:VEVENT
DTSTART;TZID=Europe/Berlin:20240518T160000
DTEND;TZID=Europe/Berlin:20240728T200000
DTSTAMP:20260424T181316
CREATED:20240506T125813Z
LAST-MODIFIED:20240506T125813Z
UID:4521-1716048000-1722196800@www.kunstverein-rheinsieg.de
SUMMARY:ZEIT - Trilogie 1
DESCRIPTION:ZEIT\n\n\n\nTrilogie 1 \n\n\n\n18. Mai bis zum 28. Juni 2024\n\n\n\n\n\n\n\nDie erste Ausstellung der Trilogie ZEIT | ZUSTAND | MENSCH im Rahmen des 50-jährigen Bestehens des BBK Bonn\, Rhein-Sieg – ein runder Geburtstag\, der gefeiert wird. \n\n\n\nEs ist die Zeitspanne\, die Datum und Anlass der Feier bestimmen. Auch der Ort der Ausstellung\, das Pumpwerk in Siegburg\, steht in unmittelbarem Bezug zu dem Begriff Zeit – man könnte sagen\, es ist ein aus der Zeit gefallenes Bauwerk. Erbaut für die Regulierung des Pegels der Sieg\, umfasst es mehrere Ebenen\, von denen eine oberirdisch\, die weiteren unterirdisch liegen. Ein Ort\, an dem die Anforderungen seiner ursprünglichen Funktion deutlich zu erfahren sind (daher leider nicht barrierefrei). \n\n\n\nDie Zeit als solche ist kein Gegenstand der sinnlich erfahrbaren Welt. Die mit der Uhr messbare Zeit ist in logisches Konstrukt\, ein Hilfsmittel\, um Beziehungen zwischen Menschen und Abläufen zu synchronisieren. Die Bestimmung von Zeit bringt ein sich steigerndes Zeitbewusstsein hervor\, bis dahin\, dass sich die Wahrnehmung einstellt\, nicht der Mensch bestimmt über die Zeit\, sondern die Zeit – von einer Uhr angezeigt – bestimmt über den Menschen. \n\n\n\nDie Werke von 42 Künstlerinnen und Künstlern des BBK Bonn\, Rhein-Sieg bieten den Besucher_innen \n\n\n\nden Rahmen und die Möglichkeit zu einem bereichernden Hinaustreten aus der von einer Uhr vorgegebenen Taktung. \n\n\n\nVERNISSAGE \n\n\n\n18. Mai 2024 | 16 Uhr \n\n\n\nPumpwerk – Kunstverein für den Rhein-Sieg-Kreis e. V. – Bonner Str. 65 – 53721 Siegburg \n\n\n\nDAUER \n\n\n\n18. Mai – 28. Juni 2024 \n\n\n\nGEÖFFNET \n\n\n\nMi 11 – 16 Uhr | Do 15.30 – 18 Uhr | Fr 11 – 15 Uhr | Jeden 1. und 3. So 13 – 16 Uhr | Feiertags geschlossen \n\n\n\n\n\n\n\n  \n\n\n\n\nHomepage deS BKK\n\n\n\n\n\nEinladung zur Ausstellung
URL:https://www.kunstverein-rheinsieg.de/event/zeit-trilogie-1/
LOCATION:Pumpwerk\, Bonner Straße 65\, Siegburg\, NRW\, 53721\, Deutschland
ORGANIZER;CN="Kunstverein Rhein-Sieg":MAILTO:admin@kunstverein-rhein sieg.de
END:VEVENT
END:VCALENDAR