BEGIN:VCALENDAR
VERSION:2.0
PRODID:-//Kunstverein für den Rhein-Sieg-Kreis e.V. - ECPv6.15.7//NONSGML v1.0//EN
CALSCALE:GREGORIAN
METHOD:PUBLISH
X-ORIGINAL-URL:https://www.kunstverein-rheinsieg.de
X-WR-CALDESC:Veranstaltungen für Kunstverein für den Rhein-Sieg-Kreis e.V.
REFRESH-INTERVAL;VALUE=DURATION:PT1H
X-Robots-Tag:noindex
X-PUBLISHED-TTL:PT1H
BEGIN:VTIMEZONE
TZID:Europe/Berlin
BEGIN:DAYLIGHT
TZOFFSETFROM:+0100
TZOFFSETTO:+0200
TZNAME:CEST
DTSTART:20240331T010000
END:DAYLIGHT
BEGIN:STANDARD
TZOFFSETFROM:+0200
TZOFFSETTO:+0100
TZNAME:CET
DTSTART:20241027T010000
END:STANDARD
BEGIN:DAYLIGHT
TZOFFSETFROM:+0100
TZOFFSETTO:+0200
TZNAME:CEST
DTSTART:20250330T010000
END:DAYLIGHT
BEGIN:STANDARD
TZOFFSETFROM:+0200
TZOFFSETTO:+0100
TZNAME:CET
DTSTART:20251026T010000
END:STANDARD
BEGIN:DAYLIGHT
TZOFFSETFROM:+0100
TZOFFSETTO:+0200
TZNAME:CEST
DTSTART:20260329T010000
END:DAYLIGHT
BEGIN:STANDARD
TZOFFSETFROM:+0200
TZOFFSETTO:+0100
TZNAME:CET
DTSTART:20261025T010000
END:STANDARD
END:VTIMEZONE
BEGIN:VEVENT
DTSTART;TZID=Europe/Berlin:20250614T160000
DTEND;TZID=Europe/Berlin:20250830T170000
DTSTAMP:20260424T011433
CREATED:20250615T170420Z
LAST-MODIFIED:20250615T170420Z
UID:4770-1749916800-1756573200@www.kunstverein-rheinsieg.de
SUMMARY:z w e i i m d r u c k + s c h n i t z l e r | w e r k s c h a u
DESCRIPTION:Vernissage: Samstag\, 14. Juni um 16.00 Uhr\nBegrüßung: Reinhard Lättgen\, Vorsitzender des Kunstvereins für den Rhein-Sieg-Kreis \nEinführung: Prof. Dr. Irene Daum\, Düsseldorf Werkschau: \nDie Künstler:innen zweiimdruck\, alias Christine Pohlmann und Suki Meyer-Landrut\, sowie Georg Schnitzler arbeiten seit einigen Jahren freundschaftlich kollegial in parallelen Prozessen\, aus denen sich immer wieder schöpferische Synergien ergeben. Mit der Werkschau\, ihrem zweiten großen gemeinsamen Ausstellungsprojekt\, gewähren sie Einblick in das künstlerische Schaffen der letzten 10 Jahre. Ein Schwerpunkt der Ausstellung liegt im jeweils neueren Oeuvre und belegt die Entwicklung aus der streng vorgegebenen Begrenzung des rechteckigen Formats hinein in die Freiheit des Raumes
URL:https://www.kunstverein-rheinsieg.de/event/z-w-e-i-i-m-d-r-u-c-k-s-c-h-n-i-t-z-l-e-r-w-e-r-k-s-c-h-a-u/
LOCATION:Pumpwerk\, Bonner Straße 65\, Siegburg\, NRW\, 53721\, Deutschland
ORGANIZER;CN="Kunstverein Rhein-Sieg":MAILTO:admin@kunstverein-rhein sieg.de
END:VEVENT
END:VCALENDAR