BEGIN:VCALENDAR
VERSION:2.0
PRODID:-//Kunstverein für den Rhein-Sieg-Kreis e.V. - ECPv6.15.7//NONSGML v1.0//EN
CALSCALE:GREGORIAN
METHOD:PUBLISH
X-ORIGINAL-URL:https://www.kunstverein-rheinsieg.de
X-WR-CALDESC:Veranstaltungen für Kunstverein für den Rhein-Sieg-Kreis e.V.
REFRESH-INTERVAL;VALUE=DURATION:PT1H
X-Robots-Tag:noindex
X-PUBLISHED-TTL:PT1H
BEGIN:VTIMEZONE
TZID:Europe/Berlin
BEGIN:DAYLIGHT
TZOFFSETFROM:+0100
TZOFFSETTO:+0200
TZNAME:CEST
DTSTART:20240331T010000
END:DAYLIGHT
BEGIN:STANDARD
TZOFFSETFROM:+0200
TZOFFSETTO:+0100
TZNAME:CET
DTSTART:20241027T010000
END:STANDARD
BEGIN:DAYLIGHT
TZOFFSETFROM:+0100
TZOFFSETTO:+0200
TZNAME:CEST
DTSTART:20250330T010000
END:DAYLIGHT
BEGIN:STANDARD
TZOFFSETFROM:+0200
TZOFFSETTO:+0100
TZNAME:CET
DTSTART:20251026T010000
END:STANDARD
BEGIN:DAYLIGHT
TZOFFSETFROM:+0100
TZOFFSETTO:+0200
TZNAME:CEST
DTSTART:20260329T010000
END:DAYLIGHT
BEGIN:STANDARD
TZOFFSETFROM:+0200
TZOFFSETTO:+0100
TZNAME:CET
DTSTART:20261025T010000
END:STANDARD
END:VTIMEZONE
BEGIN:VEVENT
DTSTART;TZID=Europe/Berlin:20250118T160000
DTEND;TZID=Europe/Berlin:20250315T190000
DTSTAMP:20260424T091906
CREATED:20241230T132220Z
LAST-MODIFIED:20241230T132220Z
UID:4688-1737216000-1742065200@www.kunstverein-rheinsieg.de
SUMMARY:4. ALL-INCLUSIVE
DESCRIPTION:Ausstellung des Kunstvereins für den Rhein – Sieg – Kreis\nAusstellung vom\n18. Januar bis 25. März 2025\n\n\nEröffnung: Samstag\, 18. Januar um 16.00 Uhr \nBegrüßung: Reinhard Lättgen\,\nVorsitzender des Kunstvereins für den Rhein-Sieg-Kreis \nAlle aktiven Mitglieder des Kunstvereins waren eingeladen\, künstlerische Beiträge zu einer unthematischen Präsentation im PUMPWERK einzureichen. \nDiesmal werden 27 verschiedene\, gestalterische Perspektiven für überraschende Dialoge und Postionen sorgen\, mit denen man so normalerweise nicht rechnet. \nWir sind wieder mal gespannt auf einen gewollt widersprüchlichen Parforce-Ritt quer durch das Schaffensspektrum unserer Mitglieder! \n\nEinladung zur Ausstellung
URL:https://www.kunstverein-rheinsieg.de/event/4-all-inclusive/
LOCATION:Pumpwerk\, Bonner Straße 65\, Siegburg\, NRW\, 53721\, Deutschland
ORGANIZER;CN="Kunstverein Rhein-Sieg":MAILTO:admin@kunstverein-rhein sieg.de
END:VEVENT
END:VCALENDAR