BEGIN:VCALENDAR
VERSION:2.0
PRODID:-//Kunstverein für den Rhein-Sieg-Kreis e.V. - ECPv6.15.7//NONSGML v1.0//EN
CALSCALE:GREGORIAN
METHOD:PUBLISH
X-WR-CALNAME:Kunstverein für den Rhein-Sieg-Kreis e.V.
X-ORIGINAL-URL:https://www.kunstverein-rheinsieg.de
X-WR-CALDESC:Veranstaltungen für Kunstverein für den Rhein-Sieg-Kreis e.V.
REFRESH-INTERVAL;VALUE=DURATION:PT1H
X-Robots-Tag:noindex
X-PUBLISHED-TTL:PT1H
BEGIN:VTIMEZONE
TZID:Europe/Berlin
BEGIN:DAYLIGHT
TZOFFSETFROM:+0100
TZOFFSETTO:+0200
TZNAME:CEST
DTSTART:20230326T010000
END:DAYLIGHT
BEGIN:STANDARD
TZOFFSETFROM:+0200
TZOFFSETTO:+0100
TZNAME:CET
DTSTART:20231029T010000
END:STANDARD
BEGIN:DAYLIGHT
TZOFFSETFROM:+0100
TZOFFSETTO:+0200
TZNAME:CEST
DTSTART:20240331T010000
END:DAYLIGHT
BEGIN:STANDARD
TZOFFSETFROM:+0200
TZOFFSETTO:+0100
TZNAME:CET
DTSTART:20241027T010000
END:STANDARD
BEGIN:DAYLIGHT
TZOFFSETFROM:+0100
TZOFFSETTO:+0200
TZNAME:CEST
DTSTART:20250330T010000
END:DAYLIGHT
BEGIN:STANDARD
TZOFFSETFROM:+0200
TZOFFSETTO:+0100
TZNAME:CET
DTSTART:20251026T010000
END:STANDARD
END:VTIMEZONE
BEGIN:VEVENT
DTSTART;TZID=Europe/Berlin:20241029T170000
DTEND;TZID=Europe/Berlin:20241122T190000
DTSTAMP:20260424T124635
CREATED:20240919T192131Z
LAST-MODIFIED:20240919T192147Z
UID:4632-1730221200-1732302000@www.kunstverein-rheinsieg.de
SUMMARY:11. Rheinischer Kunstpreis für Gertrud Riethmüller
DESCRIPTION:11. Rheinischer Kunstpreis für\nGertrud Riethmüller\n\n\n\n\n\n\n\n\nIn Kooperation mit dem Kunstverein für den Rhein-Sieg-Kreis werden Arbeiten der Kunstpreisträgerin in der Zeit vom \n29.10. – 22.11. 2024  \nin einer Ausstellung im Pumpwerk in Siegburg gezeigt.  \nZur Eröffnung der Ausstellung zu Ehren der Preisträgerin  \nladen wir Sie ganz herzlich in das Pumpwerk Siegburg ein. \nDienstag\, 29. Oktober 2024\, 17.00 Uhr  \nKunstverein für den Rhein-Sieg-Kreis\, Bonner Str. 65\, 53721 Siegburg Um eine Anmeldung zur Teilnahme an der Ve rnissage wird gebeten. \nBitte unter Angabe der Personenanzahl an: kunstpreis@rhein-sieg-kreis.de  \nBegrüßung: Reinhard Lättgen\, Vo rsitzender des Kunstvereins für den Rhein-Sieg-Kreis e.V. \nGrußwort: Sebastian Schuster\, Landrat des Rhein-Sieg-Kreises \nEinführung: Prof. Dr. Thorsten Valk\, Direktor des LVR-LandesMuseum Bonn
URL:https://www.kunstverein-rheinsieg.de/event/11-rheinischer-kunstpreis-fuer-gertrud-riethmueller/
LOCATION:Pumpwerk\, Bonner Straße 65\, Siegburg\, NRW\, 53721\, Deutschland
ORGANIZER;CN="Kunstverein Rhein-Sieg":MAILTO:admin@kunstverein-rhein sieg.de
END:VEVENT
END:VCALENDAR