BEGIN:VCALENDAR
VERSION:2.0
PRODID:-//Kunstverein für den Rhein-Sieg-Kreis e.V. - ECPv6.15.7//NONSGML v1.0//EN
CALSCALE:GREGORIAN
METHOD:PUBLISH
X-WR-CALNAME:Kunstverein für den Rhein-Sieg-Kreis e.V.
X-ORIGINAL-URL:https://www.kunstverein-rheinsieg.de
X-WR-CALDESC:Veranstaltungen für Kunstverein für den Rhein-Sieg-Kreis e.V.
REFRESH-INTERVAL;VALUE=DURATION:PT1H
X-Robots-Tag:noindex
X-PUBLISHED-TTL:PT1H
BEGIN:VTIMEZONE
TZID:Europe/Berlin
BEGIN:DAYLIGHT
TZOFFSETFROM:+0100
TZOFFSETTO:+0200
TZNAME:CEST
DTSTART:20220327T010000
END:DAYLIGHT
BEGIN:STANDARD
TZOFFSETFROM:+0200
TZOFFSETTO:+0100
TZNAME:CET
DTSTART:20221030T010000
END:STANDARD
BEGIN:DAYLIGHT
TZOFFSETFROM:+0100
TZOFFSETTO:+0200
TZNAME:CEST
DTSTART:20230326T010000
END:DAYLIGHT
BEGIN:STANDARD
TZOFFSETFROM:+0200
TZOFFSETTO:+0100
TZNAME:CET
DTSTART:20231029T010000
END:STANDARD
BEGIN:DAYLIGHT
TZOFFSETFROM:+0100
TZOFFSETTO:+0200
TZNAME:CEST
DTSTART:20240331T010000
END:DAYLIGHT
BEGIN:STANDARD
TZOFFSETFROM:+0200
TZOFFSETTO:+0100
TZNAME:CET
DTSTART:20241027T010000
END:STANDARD
END:VTIMEZONE
BEGIN:VEVENT
DTSTART;TZID=Europe/Berlin:20230304T160000
DTEND;TZID=Europe/Berlin:20230304T190000
DTSTAMP:20260425T223007
CREATED:20230223T084919Z
LAST-MODIFIED:20230223T084919Z
UID:3295-1677945600-1677956400@www.kunstverein-rheinsieg.de
SUMMARY:Dieter Kraemer - KÄFERZEITEN etc.
DESCRIPTION:KÄFERZEITEN etc.\nEröffnung: Samstag\, 4. März 2023 um 16.00 Uhr\nEinführung: Reinhard Lättgen mit einem Text von Wolfgang Niedecken \nIm Ausstellungszeitraum findet am Sonntag\, den 2. April\, die letzte Lesung aus der Reihe „Fuchs am Sonntag“ im PUMPWERK um 11.00 Uhr statt! \n  Dieter-Kraemer-2023 \n 
URL:https://www.kunstverein-rheinsieg.de/event/dieter-kraemer-kaeferzeiten-etc/
LOCATION:Pumpwerk\, Bonner Straße 65\, Siegburg\, NRW\, 53721\, Deutschland
ORGANIZER;CN="Kunstverein Rhein-Sieg":MAILTO:admin@kunstverein-rhein sieg.de
END:VEVENT
END:VCALENDAR